BEGIN:VCALENDAR
VERSION:2.0
PRODID:-//LynnWoodland.com - ECPv6.15.20//NONSGML v1.0//EN
CALSCALE:GREGORIAN
METHOD:PUBLISH
X-ORIGINAL-URL:https://lynnwoodland.com
X-WR-CALDESC:Events for LynnWoodland.com
REFRESH-INTERVAL;VALUE=DURATION:PT1H
X-Robots-Tag:noindex
X-PUBLISHED-TTL:PT1H
BEGIN:VTIMEZONE
TZID:America/North_Dakota/Center
BEGIN:DAYLIGHT
TZOFFSETFROM:-0600
TZOFFSETTO:-0500
TZNAME:CDT
DTSTART:20200308T080000
END:DAYLIGHT
BEGIN:STANDARD
TZOFFSETFROM:-0500
TZOFFSETTO:-0600
TZNAME:CST
DTSTART:20201101T070000
END:STANDARD
BEGIN:DAYLIGHT
TZOFFSETFROM:-0600
TZOFFSETTO:-0500
TZNAME:CDT
DTSTART:20210314T080000
END:DAYLIGHT
BEGIN:STANDARD
TZOFFSETFROM:-0500
TZOFFSETTO:-0600
TZNAME:CST
DTSTART:20211107T070000
END:STANDARD
BEGIN:DAYLIGHT
TZOFFSETFROM:-0600
TZOFFSETTO:-0500
TZNAME:CDT
DTSTART:20220313T080000
END:DAYLIGHT
BEGIN:STANDARD
TZOFFSETFROM:-0500
TZOFFSETTO:-0600
TZNAME:CST
DTSTART:20221106T070000
END:STANDARD
END:VTIMEZONE
BEGIN:VEVENT
DTSTART;TZID=America/North_Dakota/Center:20210124T180000
DTEND;TZID=America/North_Dakota/Center:20210124T193000
DTSTAMP:20260423T155323
CREATED:20210121T013925Z
LAST-MODIFIED:20210121T014100Z
UID:678-1611511200-1611516600@lynnwoodland.com
SUMMARY:Continuing Conversation with Futurist Bryant Cruse
DESCRIPTION:Due to their popularity\, these free presentations have become an ongoing series of casual discussions with visionary technology developer\, Bryant Cruse.\n  \nAre you fascinated by sci-fi?\n Or frightened by too-real possibilities of a dystopian future? \n Or just tired of Netflix and craving some live entertainment with actual human interaction as we’re all in shut-down? \n Then grab a cup of tea or glass of wine and join in for an entertaining evening of live discussion with futurist Bryant Cruse covering some of the most transformative\, technology-driven trends of our time: \n  \n\nArtificial Intelligence \nSpaceflight\nHealthcare and Longevity\nTranshumanism\nAn Optimistic Look into the Future\n\n  \nNext Presentation: Sunday\, January 24 \n7 PM Eastern\, 6 PM Central\, 4 PM Pacific \n\n\n\n\n\n\n\nTo Register: \nThis event is free but space-limited. Preregistration is required. (To keep this gathering as interactive as possible\, we are limiting the size. To receive Zoom link\, RSVP to lynn@lynnwoodland.com. \nA word from Bryant… \nWhat is a Futurist? \n  \nAs with most things\, there is a spectrum. At one end there are those who explore possible futures like a tourist explores foreign countries. Science Fiction writers are the landscape painters of these future vistas\, sharing their visions with others for entertainment and enlightenment. At the other end of the spectrum are the visionaries: those focused on futures that free humankind from the problems and limitations of the present. Among this group are those sometimes referred to as Agents of Change\, who not only envision these futures but dedicate themselves to bringing them about. \n  \nWe live in a dynamic time\, driven by technology\, and it seems the future is coming at us fast. Judging by the popular visions of the future as seen in movies and TV\, we are clearly nervous about what lies ahead. For every optimistic vision such as Star Trek\, there are innumerable dystopian ones. As Buckminster Fuller put it: \n“Whether it is to be utopia or oblivion will be a touch-and-go relay race right up to the final moment…” \nIn this conversation\, we will explore some reasons to believe that it is utopia\, not oblivion\, that waits for us!  \nAbout Bryant Cruse \nAs a futurist\, Bryant is in the change agent category\, especially in AI and Spaceflight. He has been a pioneer in the application of advanced automation software technology to difficult real-world problems for more than thirty years. His education includes a BA from St. John’s College in Annapolis\, Maryland and an MS in Space Systems Engineering from Johns Hopkins. After he served for eight years as a Naval Aviator\, he joined the Mission Operations team for the Hubble Telescope. From there he went on to found two successful high-tech software automation companies\, both of which were ultimately acquired by public corporations. New Sapience\, founded in 2014\, is his third technology company. The patented technology that comprises its “Cognitive Core” represents more than 15 years of development and is the world’s first (and only) technology capable of language comprehension and common-sense reasoning. \nFind out more about Bryant Cruse and New Sapience at www.newsapience.com
URL:https://lynnwoodland.com/event/continuing-conversation-with-futurist-bryant-cruse/
CATEGORIES:Guest Speaker
ATTACH;FMTTYPE=image/jpeg:https://lynnwoodland.com/wp-content/uploads/2021/01/image001.jpg
END:VEVENT
END:VCALENDAR