BEGIN:VCALENDAR
VERSION:2.0
PRODID:-//LynnWoodland.com - ECPv6.15.20//NONSGML v1.0//EN
CALSCALE:GREGORIAN
METHOD:PUBLISH
X-ORIGINAL-URL:https://lynnwoodland.com
X-WR-CALDESC:Events for LynnWoodland.com
REFRESH-INTERVAL;VALUE=DURATION:PT1H
X-Robots-Tag:noindex
X-PUBLISHED-TTL:PT1H
BEGIN:VTIMEZONE
TZID:UTC
BEGIN:STANDARD
TZOFFSETFROM:+0000
TZOFFSETTO:+0000
TZNAME:UTC
DTSTART:20190101T000000
END:STANDARD
END:VTIMEZONE
BEGIN:VTIMEZONE
TZID:America/Chicago
BEGIN:DAYLIGHT
TZOFFSETFROM:-0600
TZOFFSETTO:-0500
TZNAME:CDT
DTSTART:20190310T080000
END:DAYLIGHT
BEGIN:STANDARD
TZOFFSETFROM:-0500
TZOFFSETTO:-0600
TZNAME:CST
DTSTART:20191103T070000
END:STANDARD
BEGIN:DAYLIGHT
TZOFFSETFROM:-0600
TZOFFSETTO:-0500
TZNAME:CDT
DTSTART:20200308T080000
END:DAYLIGHT
BEGIN:STANDARD
TZOFFSETFROM:-0500
TZOFFSETTO:-0600
TZNAME:CST
DTSTART:20201101T070000
END:STANDARD
BEGIN:DAYLIGHT
TZOFFSETFROM:-0600
TZOFFSETTO:-0500
TZNAME:CDT
DTSTART:20210314T080000
END:DAYLIGHT
BEGIN:STANDARD
TZOFFSETFROM:-0500
TZOFFSETTO:-0600
TZNAME:CST
DTSTART:20211107T070000
END:STANDARD
END:VTIMEZONE
BEGIN:VEVENT
DTSTART;TZID=UTC:20200624T190000
DTEND;TZID=UTC:20200624T203000
DTSTAMP:20260423T202121
CREATED:20190929T224035Z
LAST-MODIFIED:20200618T003805Z
UID:65-1593025200-1593030600@lynnwoodland.com
SUMMARY:The Miracles Course
DESCRIPTION:If you’re looking for spiritual community\, support\, and a weekly spiritual experience please join us for Wednesday classes online! This year-long\, online course\, which previously has been offered in three-month segments to enrolled students only\, will now be open each week to anyone wanting to attend\, with an honor-system request to give a donation for participation.\n \nWhat it Is: The Miracles Course is a year-long program of spiritual and personal transformation aimed at living a miraculous life. It’s designed to change you\, improve your quality of life\, and help you manifest your highest purpose.\n \nThe Miracles Course is on Hiatus for the Summer. \n\nFor more information connecting with this program please contact lynn@lynnwoodland.com 
URL:https://lynnwoodland.com/event/the-miracles-course-4/
CATEGORIES:Classes
ATTACH;FMTTYPE=image/jpeg:https://lynnwoodland.com/wp-content/uploads/2019/11/a-man-lifting-his-hands-in-praise-under-night-sky_BmOGpCZx0.jpg
END:VEVENT
BEGIN:VEVENT
DTSTART;TZID=America/Chicago:20200617T190000
DTEND;TZID=America/Chicago:20200617T203000
DTSTAMP:20260423T202121
CREATED:20191114T015515Z
LAST-MODIFIED:20200610T235630Z
UID:225-1592420400-1592425800@lynnwoodland.com
SUMMARY:The Miracles Course
DESCRIPTION:If you’re looking for spiritual community\, support\, and a weekly spiritual experience please join us for Wednesday classes online! This year-long\, online course\, which previously has been offered in three-month segments to enrolled students only\, will now be open each week to anyone wanting to attend\, with an honor-system request to give a donation for participation.\n \nWhat it Is: The Miracles Course is a year-long program of spiritual and personal transformation aimed at living a miraculous life. It’s designed to change you\, improve your quality of life\, and help you manifest your highest purpose.\n \nThis access link and code will remain the same each week:\nPlease join my meeting from your computer\, tablet or smartphone. https://global.gotomeeting.com/join/139777765\n \nYou can also dial in using your phone. United States: +1 (669) 224-3412 Access Code: 139-777-765 Joining from a video-conferencing room or system? Depending on your device\, dial: 139777765@67.217.95.2 or 67.217.95.2##139777765\n \nNew to GoToMeeting?\nGet the app now and be ready when your first meeting starts: https://global.gotomeeting.com/install/139777765\n \nFirst GoToMeeting?\nTry a test session: http://help.citrix.com/getready\n \nParticipation Requests:\n1. Please do your best to log in a few minutes early so as not to interrupt by coming in on the middle of class (we all hear you joining the meeting).\n2. As soon as you join the meeting\, mute yourself by clicking on the microphone icon on your Go To Meeting panel\, or by pressing *6 if you are attending by phone. Your participation is welcome and when you want to speak\, just unmute your microphone icon or again press *6.\n3. Be willing to share your name when Lynn asks who is present so that we know who is participating. No anonymous “lurkers” please!\n4. Please make a donation for your participation: You may use this link to donate with your credit card or checking account via Paypal:\nhttps://www.paypal.com/cgi-bin/webscr?cmd=_s-xclick&hosted_button_id=PUWSPVRVPF7CS\n \nOr if you would prefer to pay by check\, send an email request to lynn@lynnwoodland.com and I will send you a mailing address.
URL:https://lynnwoodland.com/event/the-miracles-course-5/
CATEGORIES:Classes
ATTACH;FMTTYPE=image/jpeg:https://lynnwoodland.com/wp-content/uploads/2019/11/IMG_7438-2197-scaled.jpg
END:VEVENT
BEGIN:VEVENT
DTSTART;TZID=America/Chicago:20200610T190000
DTEND;TZID=America/Chicago:20200610T203000
DTSTAMP:20260423T202121
CREATED:20191002T214936Z
LAST-MODIFIED:20200610T235700Z
UID:42-1591815600-1591821000@lynnwoodland.com
SUMMARY:The Miracles Course
DESCRIPTION:If you’re looking for spiritual community\, support\, and a weekly spiritual experience please join us for Wednesday classes online! This year-long\, online course\, which previously has been offered in three-month segments to enrolled students only\, will now be open each week to anyone wanting to attend\, with an honor-system request to give a donation for participation.\n \nWhat it Is: The Miracles Course is a year-long program of spiritual and personal transformation aimed at living a miraculous life. It’s designed to change you\, improve your quality of life\, and help you manifest your highest purpose.\n \nThis access link and code will remain the same each week:\nPlease join my meeting from your computer\, tablet or smartphone. https://global.gotomeeting.com/join/139777765\n \nYou can also dial in using your phone. United States: +1 (669) 224-3412 Access Code: 139-777-765 Joining from a video-conferencing room or system? Depending on your device\, dial: 139777765@67.217.95.2 or 67.217.95.2##139777765\n \nNew to GoToMeeting?\nGet the app now and be ready when your first meeting starts: https://global.gotomeeting.com/install/139777765\n \nFirst GoToMeeting?\nTry a test session: http://help.citrix.com/getready\n \nParticipation Requests:\n1. Please do your best to log in a few minutes early so as not to interrupt by coming in on the middle of class (we all hear you joining the meeting).\n2. As soon as you join the meeting\, mute yourself by clicking on the microphone icon on your Go To Meeting panel\, or by pressing *6 if you are attending by phone. Your participation is welcome and when you want to speak\, just unmute your microphone icon or again press *6.\n3. Be willing to share your name when Lynn asks who is present so that we know who is participating. No anonymous “lurkers” please!\n4. Please make a donation for your participation: You may use this link to donate with your credit card or checking account via Paypal:\nhttps://www.paypal.com/cgi-bin/webscr?cmd=_s-xclick&hosted_button_id=PUWSPVRVPF7CS\n \nOr if you would prefer to pay by check\, send an email request to lynn@lynnwoodland.com and I will send you a mailing address.
URL:https://lynnwoodland.com/event/42/
LOCATION:ON LINE with Facebook or Gotomeetings\, MINNEAPOLIS\, MN\, United States
CATEGORIES:Classes
ATTACH;FMTTYPE=image/jpeg:https://lynnwoodland.com/wp-content/uploads/2019/10/db-316-philippines-055-3832-scaled.jpg
ORGANIZER;CN="Lynn Woodland":MAILTO:lynn@lynnwoodland.com
END:VEVENT
BEGIN:VEVENT
DTSTART;TZID=UTC:20200603T080000
DTEND;TZID=UTC:20200603T170000
DTSTAMP:20260423T202121
CREATED:20190929T223313Z
LAST-MODIFIED:20200521T005047Z
UID:61-1591171200-1591203600@lynnwoodland.com
SUMMARY:The Miracles Course Summer Quarter Begins
DESCRIPTION:If you’re looking for spiritual community\, support\, and a weekly spiritual experience please join us for Wednesday classes online! This year-long\, online course\, which previously has been offered in three-month segments to enrolled students only\, will now be open each week to anyone wanting to attend\, with an honor-system request to give a donation for participation.\n \nWhat it Is: The Miracles Course is a year-long program of spiritual and personal transformation aimed at living a miraculous life. It’s designed to change you\, improve your quality of life\, and help you manifest your highest purpose.\n \nThis access link and code will remain the same each week:\nPlease join my meeting from your computer\, tablet or smartphone. https://global.gotomeeting.com/join/139777765\n \nYou can also dial in using your phone. United States: +1 (669) 224-3412 Access Code: 139-777-765 Joining from a video-conferencing room or system? Depending on your device\, dial: 139777765@67.217.95.2 or 67.217.95.2##139777765\n \nNew to GoToMeeting?\nGet the app now and be ready when your first meeting starts: https://global.gotomeeting.com/install/139777765\n \nFirst GoToMeeting?\nTry a test session: http://help.citrix.com/getready\n \nParticipation Requests:\n1. Please do your best to log in a few minutes early so as not to interrupt by coming in on the middle of class (we all hear you joining the meeting).\n2. As soon as you join the meeting\, mute yourself by clicking on the microphone icon on your Go To Meeting panel\, or by pressing *6 if you are attending by phone. Your participation is welcome and when you want to speak\, just unmute your microphone icon or again press *6.\n3. Be willing to share your name when Lynn asks who is present so that we know who is participating. No anonymous “lurkers” please!\n4. Please make a donation for your participation: You may use this link to donate with your credit card or checking account via Paypal:\nhttps://www.paypal.com/cgi-bin/webscr?cmd=_s-xclick&hosted_button_id=PUWSPVRVPF7CS\n \nOr if you would prefer to pay by check\, send an email request to lynn@lynnwoodland.com and I will send you a mailing address.
URL:https://lynnwoodland.com/event/the-miracles-course-3/
CATEGORIES:Classes
ATTACH;FMTTYPE=image/jpeg:https://lynnwoodland.com/wp-content/uploads/2019/09/graphicstock-beautiful-landscape-in-the-mountains-with-colorful-flowersdigital-painting_BnARj8s9g-Copy-scaled.jpg
END:VEVENT
BEGIN:VEVENT
DTSTART;TZID=America/Chicago:20200527T190000
DTEND;TZID=America/Chicago:20200527T203000
DTSTAMP:20260423T202121
CREATED:20190929T221352Z
LAST-MODIFIED:20200521T004526Z
UID:54-1590606000-1590611400@lynnwoodland.com
SUMMARY:The Miracles Course
DESCRIPTION:If you’re looking for spiritual community\, support\, and a weekly spiritual experience please join us for Wednesday classes online! This year-long\, online course\, which previously has been offered in three-month segments to enrolled students only\, will now be open each week to anyone wanting to attend\, with an honor-system request to give a donation for participation.\n \nWhat it Is: The Miracles Course is a year-long program of spiritual and personal transformation aimed at living a miraculous life. It’s designed to change you\, improve your quality of life\, and help you manifest your highest purpose.\n \nThis access link and code will remain the same each week:\nPlease join my meeting from your computer\, tablet or smartphone. https://global.gotomeeting.com/join/139777765\n \nYou can also dial in using your phone. United States: +1 (669) 224-3412 Access Code: 139-777-765 Joining from a video-conferencing room or system? Depending on your device\, dial: 139777765@67.217.95.2 or 67.217.95.2##139777765\n \nNew to GoToMeeting?\nGet the app now and be ready when your first meeting starts: https://global.gotomeeting.com/install/139777765\n \nFirst GoToMeeting?\nTry a test session: http://help.citrix.com/getready\n \nParticipation Requests:\n1. Please do your best to log in a few minutes early so as not to interrupt by coming in on the middle of class (we all hear you joining the meeting).\n2. As soon as you join the meeting\, mute yourself by clicking on the microphone icon on your Go To Meeting panel\, or by pressing *6 if you are attending by phone. Your participation is welcome and when you want to speak\, just unmute your microphone icon or again press *6.\n3. Be willing to share your name when Lynn asks who is present so that we know who is participating. No anonymous “lurkers” please!\n4. Please make a donation for your participation: You may use this link to donate with your credit card or checking account via Paypal:\nhttps://www.paypal.com/cgi-bin/webscr?cmd=_s-xclick&hosted_button_id=PUWSPVRVPF7CS\n \nOr if you would prefer to pay by check\, send an email request to lynn@lynnwoodland.com and I will send you a mailing address.
URL:https://lynnwoodland.com/event/the-miracles-course/
CATEGORIES:Classes
ATTACH;FMTTYPE=image/jpeg:https://lynnwoodland.com/wp-content/uploads/2019/11/AS7_5829-259-Copy-scaled.jpg
END:VEVENT
BEGIN:VEVENT
DTSTART;TZID=America/Chicago:20200429T190000
DTEND;TZID=America/Chicago:20200429T203000
DTSTAMP:20260423T202121
CREATED:20190929T221654Z
LAST-MODIFIED:20200409T003841Z
UID:57-1588186800-1588192200@lynnwoodland.com
SUMMARY:The Miracles Course
DESCRIPTION:If you’re looking for spiritual community\, support\, and a weekly spiritual experience please join us for Wednesday classes online! This year-long\, online course\, which previously has been offered in three-month segments to enrolled students only\, will now be open each week to anyone wanting to attend\, with an honor-system request to give a donation for participation.\n \nWhat it Is: The Miracles Course is a year-long program of spiritual and personal transformation aimed at living a miraculous life. It’s designed to change you\, improve your quality of life\, and help you manifest your highest purpose.\n \nThis access link and code will remain the same each week:\nPlease join my meeting from your computer\, tablet or smartphone. https://global.gotomeeting.com/join/139777765\n \nYou can also dial in using your phone. United States: +1 (669) 224-3412 Access Code: 139-777-765 Joining from a video-conferencing room or system? Depending on your device\, dial: 139777765@67.217.95.2 or 67.217.95.2##139777765\n \nNew to GoToMeeting?\nGet the app now and be ready when your first meeting starts: https://global.gotomeeting.com/install/139777765\n \nFirst GoToMeeting?\nTry a test session: http://help.citrix.com/getready\n \nParticipation Requests:\n1. Please do your best to log in a few minutes early so as not to interrupt by coming in on the middle of class (we all hear you joining the meeting).\n2. As soon as you join the meeting\, mute yourself by clicking on the microphone icon on your Go To Meeting panel\, or by pressing *6 if you are attending by phone. Your participation is welcome and when you want to speak\, just unmute your microphone icon or again press *6.\n3. Be willing to share your name when Lynn asks who is present so that we know who is participating. No anonymous “lurkers” please!\n4. Please make a donation for your participation: You may use this link to donate with your credit card or checking account via Paypal:\nhttps://www.paypal.com/cgi-bin/webscr?cmd=_s-xclick&hosted_button_id=PUWSPVRVPF7CS\n \nOr if you would prefer to pay by check\, send an email request to lynn@lynnwoodland.com and I will send you a mailing address.
URL:https://lynnwoodland.com/event/the-miracles-course-2/
CATEGORIES:Classes
ATTACH;FMTTYPE=image/jpeg:https://lynnwoodland.com/wp-content/uploads/2019/09/graphicstock-lonely-woman-under-umbrella-lights-in-the-darkdigital-painting_H3cCiIjcl-1-scaled.jpg
END:VEVENT
END:VCALENDAR